BEGIN:VCALENDAR
VERSION:2.0
PRODID:-//wilhelm-hauff-grundschule - ECPv6.15.17.1//NONSGML v1.0//EN
CALSCALE:GREGORIAN
METHOD:PUBLISH
X-ORIGINAL-URL:https://wilhelm-hauff-grundschule.de
X-WR-CALDESC:Veranstaltungen für wilhelm-hauff-grundschule
REFRESH-INTERVAL;VALUE=DURATION:PT1H
X-Robots-Tag:noindex
X-PUBLISHED-TTL:PT1H
BEGIN:VTIMEZONE
TZID:Europe/Berlin
BEGIN:DAYLIGHT
TZOFFSETFROM:+0100
TZOFFSETTO:+0200
TZNAME:CEST
DTSTART:20220327T010000
END:DAYLIGHT
BEGIN:STANDARD
TZOFFSETFROM:+0200
TZOFFSETTO:+0100
TZNAME:CET
DTSTART:20221030T010000
END:STANDARD
BEGIN:DAYLIGHT
TZOFFSETFROM:+0100
TZOFFSETTO:+0200
TZNAME:CEST
DTSTART:20230326T010000
END:DAYLIGHT
BEGIN:STANDARD
TZOFFSETFROM:+0200
TZOFFSETTO:+0100
TZNAME:CET
DTSTART:20231029T010000
END:STANDARD
BEGIN:DAYLIGHT
TZOFFSETFROM:+0100
TZOFFSETTO:+0200
TZNAME:CEST
DTSTART:20240331T010000
END:DAYLIGHT
BEGIN:STANDARD
TZOFFSETFROM:+0200
TZOFFSETTO:+0100
TZNAME:CET
DTSTART:20241027T010000
END:STANDARD
END:VTIMEZONE
BEGIN:VEVENT
DTSTART;TZID=Europe/Berlin:20230502T080000
DTEND;TZID=Europe/Berlin:20230502T133000
DTSTAMP:20260424T083035
CREATED:20230307T143221Z
LAST-MODIFIED:20230307T143221Z
UID:3394-1683014400-1683034200@wilhelm-hauff-grundschule.de
SUMMARY:Wilhelm Hauff Fußball Cup
DESCRIPTION:
URL:https://wilhelm-hauff-grundschule.de/veranstaltung/wilhelm-hauff-fussball-cup/
END:VEVENT
BEGIN:VEVENT
DTSTART;TZID=Europe/Berlin:20230523T080000
DTEND;TZID=Europe/Berlin:20230523T133000
DTSTAMP:20260424T083035
CREATED:20230523T024438Z
LAST-MODIFIED:20230523T024653Z
UID:3428-1684828800-1684848600@wilhelm-hauff-grundschule.de
SUMMARY:Schulwettkampf Buchstabierwettbewerb
DESCRIPTION:Schulwettkampf Buchstabierwettbewerb B/C – Klassen ab 12.00 Uhr (Unterricht für diese Klassen endet nach der 4. Stunde)
URL:https://wilhelm-hauff-grundschule.de/veranstaltung/buchstabierwettbewerb/
END:VEVENT
BEGIN:VEVENT
DTSTART;TZID=Europe/Berlin:20230524T080000
DTEND;TZID=Europe/Berlin:20230524T140000
DTSTAMP:20260424T083035
CREATED:20230523T024354Z
LAST-MODIFIED:20230523T024354Z
UID:3426-1684915200-1684936800@wilhelm-hauff-grundschule.de
SUMMARY:Sportfest der Wilhelm-Hauff-Grundschule
DESCRIPTION:
URL:https://wilhelm-hauff-grundschule.de/veranstaltung/sportfest-der-wilhelm-hauff-grundschule/
END:VEVENT
BEGIN:VEVENT
DTSTART;TZID=Europe/Berlin:20230525T120000
DTEND;TZID=Europe/Berlin:20230525T143000
DTSTAMP:20260424T083035
CREATED:20230523T024731Z
LAST-MODIFIED:20230523T024731Z
UID:3433-1685016000-1685025000@wilhelm-hauff-grundschule.de
SUMMARY:Schülerparlament
DESCRIPTION:12.00 Uhr – 14.25 Uhr
URL:https://wilhelm-hauff-grundschule.de/veranstaltung/schuelerparlament-7/
END:VEVENT
BEGIN:VEVENT
DTSTART;TZID=Europe/Berlin:20230529T080000
DTEND;TZID=Europe/Berlin:20230530T170000
DTSTAMP:20260424T083035
CREATED:20230523T024820Z
LAST-MODIFIED:20230523T024820Z
UID:3436-1685347200-1685466000@wilhelm-hauff-grundschule.de
SUMMARY:Pfingsten
DESCRIPTION:Feiertag & Brückentag
URL:https://wilhelm-hauff-grundschule.de/veranstaltung/pfingsten/
END:VEVENT
END:VCALENDAR